BEGIN:VCALENDAR
VERSION:2.0
PRODID:-//Sam Burgess Music - ECPv6.15.10//NONSGML v1.0//EN
CALSCALE:GREGORIAN
METHOD:PUBLISH
X-ORIGINAL-URL:https://www.samburgessmusic.com
X-WR-CALDESC:Events for Sam Burgess Music
REFRESH-INTERVAL;VALUE=DURATION:PT1H
X-Robots-Tag:noindex
X-PUBLISHED-TTL:PT1H
BEGIN:VTIMEZONE
TZID:UTC
BEGIN:STANDARD
TZOFFSETFROM:+0000
TZOFFSETTO:+0000
TZNAME:UTC
DTSTART:20190101T000000
END:STANDARD
END:VTIMEZONE
BEGIN:VTIMEZONE
TZID:Europe/London
BEGIN:DAYLIGHT
TZOFFSETFROM:+0000
TZOFFSETTO:+0100
TZNAME:BST
DTSTART:20190331T010000
END:DAYLIGHT
BEGIN:STANDARD
TZOFFSETFROM:+0100
TZOFFSETTO:+0000
TZNAME:GMT
DTSTART:20191027T010000
END:STANDARD
BEGIN:DAYLIGHT
TZOFFSETFROM:+0000
TZOFFSETTO:+0100
TZNAME:BST
DTSTART:20200329T010000
END:DAYLIGHT
BEGIN:STANDARD
TZOFFSETFROM:+0100
TZOFFSETTO:+0000
TZNAME:GMT
DTSTART:20201025T010000
END:STANDARD
BEGIN:DAYLIGHT
TZOFFSETFROM:+0000
TZOFFSETTO:+0100
TZNAME:BST
DTSTART:20210328T010000
END:DAYLIGHT
BEGIN:STANDARD
TZOFFSETFROM:+0100
TZOFFSETTO:+0000
TZNAME:GMT
DTSTART:20211031T010000
END:STANDARD
END:VTIMEZONE
BEGIN:VEVENT
DTSTART;TZID=UTC:20201130T200000
DTEND;TZID=UTC:20201130T220000
DTSTAMP:20260423T164824
CREATED:20201130T093553Z
LAST-MODIFIED:20201130T093553Z
UID:1231-1606766400-1606773600@www.samburgessmusic.com
SUMMARY:Live Stream from Ronnie Scott's
DESCRIPTION:The James Pearson band performs a set celebrating the playing and writing of Dudley Moore.
URL:https://www.samburgessmusic.com/event/live-stream-from-ronnie-scotts/
LOCATION:Ronnie Scott’s Jazz Club\, 47 Frith Street\, Soho\, London\, W1D 4HT\, United Kingdom
END:VEVENT
BEGIN:VEVENT
DTSTART;TZID=Europe/London:20201104T193000
DTEND;TZID=Europe/London:20201104T223000
DTSTAMP:20260423T164824
CREATED:20201004T110233Z
LAST-MODIFIED:20201004T110233Z
UID:1154-1604518200-1604529000@www.samburgessmusic.com
SUMMARY:Pizza Express Dean Street\, Soho
DESCRIPTION:Sam Joins Alan Barnes \, Mark Nightingale\, Graham Harvey and Ian Thomas to play the music of Gershwin in the original (and still the best) Pizza Express Jazz venue.
URL:https://www.samburgessmusic.com/event/pizza-express-dean-street-soho/
LOCATION:Pizza Express Jazz Club\, 10 Dean Street\, London\, W1D 3RW\, United Kingdom
END:VEVENT
BEGIN:VEVENT
DTSTART;TZID=Europe/London:20201017T190000
DTEND;TZID=Europe/London:20201017T220000
DTSTAMP:20260423T164824
CREATED:20201004T105352Z
LAST-MODIFIED:20201004T105711Z
UID:1151-1602961200-1602972000@www.samburgessmusic.com
SUMMARY:Fidelio Orchestra Cafe
DESCRIPTION:The Great American Songbook\nAnother opportunity  to see Sam join Lizzie Ball and James Pearson in a (Covid Secure) up close and personal set. If you haven’t been to the Fidelio it is a treat that shouldn’t be missed. The venue adds to the enjoyment of Cole Porter\, Ella Fitzgerald\, Gershin and other great American artists. Arrangements are from Andrew Cottee ensuring a fresh take on all these great numbers.
URL:https://www.samburgessmusic.com/event/fidelio-orchestra-cafe-2/
LOCATION:Fidelio Orchestra Cafe\, 91-95 Clerkenwell Road\, London\, EC1R 5BX\, United Kingdom
END:VEVENT
BEGIN:VEVENT
DTSTART;TZID=Europe/London:20201017T190000
DTEND;TZID=Europe/London:20201017T210000
DTSTAMP:20260423T164824
CREATED:20201004T100040Z
LAST-MODIFIED:20201004T100040Z
UID:1142-1602961200-1602968400@www.samburgessmusic.com
SUMMARY:100 Years of Jazz at the West Malling Festival
DESCRIPTION:Video stream from St.Mary’s Church\, West Malling.\nSam plays with regularly with the James Pearson Trio and tonight’s session is a fantastic opportunity to see their interpretation of 100 years of great jazz music. With James Pearson (Piano)\, Sam Burgess (Bass) is Simon Lea on Drums.
URL:https://www.samburgessmusic.com/event/100-years-of-jazz-at-the-west-malling-festival/
END:VEVENT
BEGIN:VEVENT
DTSTART;TZID=Europe/London:20201016T190000
DTEND;TZID=Europe/London:20201016T220000
DTSTAMP:20260423T164824
CREATED:20201004T104857Z
LAST-MODIFIED:20201004T105647Z
UID:1148-1602874800-1602885600@www.samburgessmusic.com
SUMMARY:Fidelio Orchestra Cafe
DESCRIPTION:The Great American Songbook\nSam joins Lizzie Ball and James Pearson in a (Covid Secure) up close and personal set. If you haven’t been to the Fidelio it is a treat that shouldn’t be missed. The venue adds to the enjoyment of Cole Porter\, Ella Fitzgerald\, Gershin and other great American artists. Arrangements are from Andrew Cottee ensuring a fresh take on all these great numbers.
URL:https://www.samburgessmusic.com/event/fidelio-orchestra-cafe/
LOCATION:Fidelio Orchestra Cafe\, 91-95 Clerkenwell Road\, London\, EC1R 5BX\, United Kingdom
END:VEVENT
BEGIN:VEVENT
DTSTART;TZID=Europe/London:20201016T190000
DTEND;TZID=Europe/London:20201016T210000
DTSTAMP:20260423T164824
CREATED:20201004T095012Z
LAST-MODIFIED:20201004T095222Z
UID:1138-1602874800-1602882000@www.samburgessmusic.com
SUMMARY:Classical Kicks online at West Malling Festival
DESCRIPTION:Video stream from St.Mary’s Church\, West Malling.\nSam will be joining Lizzie Ball and colleagues in a journey through a wide range of styles and genres. \nLizzie’s Classical Kicks repertoire covers classics from Vivaldi and and Copland and blends these with a range of folk music and even birdsong.
URL:https://www.samburgessmusic.com/event/classical-kicks-online-at-west-malling-festival/
END:VEVENT
BEGIN:VEVENT
DTSTART;TZID=UTC:20200924T200000
DTEND;TZID=UTC:20200924T220000
DTSTAMP:20260423T164824
CREATED:20201003T114149Z
LAST-MODIFIED:20201004T105125Z
UID:1102-1600977600-1600984800@www.samburgessmusic.com
SUMMARY:Ronnie Scott's Session
DESCRIPTION:Join the Ronnie Scott’s all Stars this Thursday\nEnjoy a range of jazz standards and innovative new material all night Ronnie’s iconic club. Set up to maintain social distancing you will be able to enjoy a fantastic evening with great views and plenty of space to yourself.
URL:https://www.samburgessmusic.com/event/ronnie-scotts-session/
LOCATION:Ronnie Scott’s Jazz Club\, 47 Frith Street\, Soho\, London\, W1D 4HT\, United Kingdom
END:VEVENT
END:VCALENDAR